BEGIN:VCALENDAR
VERSION:2.0
PRODID:-//JYS - ECPv6.15.17.1//NONSGML v1.0//EN
CALSCALE:GREGORIAN
METHOD:PUBLISH
X-ORIGINAL-URL:https://jysblr.brtstage.in
X-WR-CALDESC:Events for JYS
REFRESH-INTERVAL;VALUE=DURATION:PT1H
X-Robots-Tag:noindex
X-PUBLISHED-TTL:PT1H
BEGIN:VTIMEZONE
TZID:UTC
BEGIN:STANDARD
TZOFFSETFROM:+0000
TZOFFSETTO:+0000
TZNAME:UTC
DTSTART:20250101T000000
END:STANDARD
END:VTIMEZONE
BEGIN:VEVENT
DTSTART;TZID=UTC:20260405T110000
DTEND;TZID=UTC:20260405T130000
DTSTAMP:20260424T094722
CREATED:20260318T055521Z
LAST-MODIFIED:20260318T061022Z
UID:4466-1775386800-1775394000@jysblr.brtstage.in
SUMMARY:Samman Samaroh
DESCRIPTION:  \n 
URL:https://jysblr.brtstage.in/event/samman-samaroh/
LOCATION:BBLU\, BBUL College\, Shankarpura\, Bengaluru\, Karnataka\, 560004\, India
CATEGORIES:Upcoming Events
ATTACH;FMTTYPE=image/jpeg:https://jysblr.brtstage.in/wp-content/uploads/2026/03/2.jpeg
END:VEVENT
END:VCALENDAR