BEGIN:VCALENDAR
VERSION:2.0
PRODID:-//JYS - ECPv6.15.17.1//NONSGML v1.0//EN
CALSCALE:GREGORIAN
METHOD:PUBLISH
X-ORIGINAL-URL:https://jysblr.brtstage.in
X-WR-CALDESC:Events for JYS
REFRESH-INTERVAL;VALUE=DURATION:PT1H
X-Robots-Tag:noindex
X-PUBLISHED-TTL:PT1H
BEGIN:VTIMEZONE
TZID:UTC
BEGIN:STANDARD
TZOFFSETFROM:+0000
TZOFFSETTO:+0000
TZNAME:UTC
DTSTART:20250101T000000
END:STANDARD
END:VTIMEZONE
BEGIN:VEVENT
DTSTART;TZID=UTC:20260427T083000
DTEND;TZID=UTC:20260427T170000
DTSTAMP:20260421T014123
CREATED:20260318T055942Z
LAST-MODIFIED:20260318T061006Z
UID:4473-1777278600-1777309200@jysblr.brtstage.in
SUMMARY:Samayik Divas
DESCRIPTION: 
URL:https://jysblr.brtstage.in/event/samayik-divas/
LOCATION:Karnatak Jain Bhavan\, Karnatak Jain Bhavan\, Krishna Rajendra Rd\, Chikkanna Garden\, Shankarapura\, Bengaluru\, Karnataka\, 560004\, India
CATEGORIES:Upcoming Events
ATTACH;FMTTYPE=image/jpeg:https://jysblr.brtstage.in/wp-content/uploads/2026/03/3.jpeg
END:VEVENT
END:VCALENDAR