BEGIN:VCALENDAR
VERSION:2.0
PRODID:-//JYS - ECPv6.15.17.1//NONSGML v1.0//EN
CALSCALE:GREGORIAN
METHOD:PUBLISH
X-WR-CALNAME:JYS
X-ORIGINAL-URL:https://jysblr.brtstage.in
X-WR-CALDESC:Events for JYS
REFRESH-INTERVAL;VALUE=DURATION:PT1H
X-Robots-Tag:noindex
X-PUBLISHED-TTL:PT1H
BEGIN:VTIMEZONE
TZID:UTC
BEGIN:STANDARD
TZOFFSETFROM:+0000
TZOFFSETTO:+0000
TZNAME:UTC
DTSTART:20250101T000000
END:STANDARD
END:VTIMEZONE
BEGIN:VEVENT
DTSTART;TZID=UTC:20260330T150000
DTEND;TZID=UTC:20260330T170000
DTSTAMP:20260424T172250
CREATED:20260319T045012Z
LAST-MODIFIED:20260319T045023Z
UID:4715-1774882800-1774890000@jysblr.brtstage.in
SUMMARY:Sangh Sanstha Meeting
DESCRIPTION: 
URL:https://jysblr.brtstage.in/event/sangh-sanstha-meeting/
LOCATION:Freedom Park\, Freedom Park\, Seshadri Rd\, Gandhi Nagar\, Bengaluru\, Karnataka\, 560009\, India
ATTACH;FMTTYPE=image/jpeg:https://jysblr.brtstage.in/wp-content/uploads/2026/03/WhatsApp-Image-2026-03-17-at-11.12.42-PM.jpeg
END:VEVENT
END:VCALENDAR